BEGIN:VCALENDAR
VERSION:2.0
PRODID:-//516Ads | 631Ads - ECPv6.15.20//NONSGML v1.0//EN
CALSCALE:GREGORIAN
METHOD:PUBLISH
X-WR-CALNAME:516Ads | 631Ads
X-ORIGINAL-URL:https://516ads.com
X-WR-CALDESC:Events for 516Ads | 631Ads
REFRESH-INTERVAL;VALUE=DURATION:PT1H
X-Robots-Tag:noindex
X-PUBLISHED-TTL:PT1H
BEGIN:VTIMEZONE
TZID:America/New_York
BEGIN:DAYLIGHT
TZOFFSETFROM:-0500
TZOFFSETTO:-0400
TZNAME:EDT
DTSTART:20240310T070000
END:DAYLIGHT
BEGIN:STANDARD
TZOFFSETFROM:-0400
TZOFFSETTO:-0500
TZNAME:EST
DTSTART:20241103T060000
END:STANDARD
BEGIN:DAYLIGHT
TZOFFSETFROM:-0500
TZOFFSETTO:-0400
TZNAME:EDT
DTSTART:20250309T070000
END:DAYLIGHT
BEGIN:STANDARD
TZOFFSETFROM:-0400
TZOFFSETTO:-0500
TZNAME:EST
DTSTART:20251102T060000
END:STANDARD
BEGIN:DAYLIGHT
TZOFFSETFROM:-0500
TZOFFSETTO:-0400
TZNAME:EDT
DTSTART:20260308T070000
END:DAYLIGHT
BEGIN:STANDARD
TZOFFSETFROM:-0400
TZOFFSETTO:-0500
TZNAME:EST
DTSTART:20261101T060000
END:STANDARD
END:VTIMEZONE
BEGIN:VEVENT
DTSTART;TZID=America/New_York:20251113T120000
DTEND;TZID=America/New_York:20251113T140000
DTSTAMP:20260419T131026
CREATED:20251022T171212Z
LAST-MODIFIED:20251022T171212Z
UID:1823-1763035200-1763042400@516ads.com
SUMMARY:Stonebridge Country Club 11-13-25
DESCRIPTION:Share this:
URL:https://516ads.com/event/stonebridge-country-club-11-13-25/
LOCATION:Stonebridge Country Club\, 2000 Raynors Way\, Smithtown\, NY
CATEGORIES:Networking Lunch Events
ATTACH;FMTTYPE=image/jpeg:https://516ads.com/wp-content/uploads/2025/10/Stonebridge-Country-Club-Logo.jpg
END:VEVENT
BEGIN:VEVENT
DTSTART;TZID=America/New_York:20251110T180000
DTEND;TZID=America/New_York:20251110T200000
DTSTAMP:20260419T131026
CREATED:20251103T113412Z
LAST-MODIFIED:20251103T113412Z
UID:2027-1762797600-1762804800@516ads.com
SUMMARY:Monday Night Networking - FREE Networking Night @ TAPROOM / Massapequa
DESCRIPTION:Monday Night Networking\nFREE Networking Night\nMonday\, November 10\, 2025 6PM – 8PM \n\n@ THE TAP ROOM / Massapequa Park\n1010 Park Blvd.\, Massapequa Park\, NY  \n516Ads/ 631Ads are proud to team up with Herd Law Office\, LLC.\, Mike Aharoni – Coldwell Banker American Homes\, Safe Haven Insurance Agency\,  Sir Speedy / Plainview\, Alex Wolff – Concierge Photography\, Robert Zabbia – Allstate and our friends @ VoIPX as we host Monday Night Networking @ THE TAP ROOM / Massapequa. Lite Apps. Cash Bar. Connect. Promote. Learn. Grow. Hope to see you there! \nShare this:
URL:https://516ads.com/event/monday-night-networking-free-networking-night-taproom-massapequa/
LOCATION:THE TAP ROOM / Massapequa\, 1010 Park Blvd.\, Massapequa Park\, NY\, NY
CATEGORIES:Networking Evening Events
ATTACH;FMTTYPE=image/jpeg:https://516ads.com/wp-content/uploads/2025/11/tap-room-mass.jpg
END:VEVENT
BEGIN:VEVENT
DTSTART;TZID=America/New_York:20251110T180000
DTEND;TZID=America/New_York:20251110T200000
DTSTAMP:20260419T131026
CREATED:20251022T171033Z
LAST-MODIFIED:20251101T164143Z
UID:1821-1762797600-1762804800@516ads.com
SUMMARY:TAP ROOM/ Massapequa Park Tap Room FREE - Networking Night 11-10-25
DESCRIPTION:Share this:
URL:https://516ads.com/event/tap-room-massapequa-park-tap-room-free-networking-night-11-10-25/
LOCATION:THE TAP ROOM / Massapequa\, 1010 Park Blvd.\, Massapequa Park\, NY\, NY
CATEGORIES:Networking Evening Events
ATTACH;FMTTYPE=image/jpeg:https://516ads.com/wp-content/uploads/2025/10/Massapequa-Park-Tap-Room.jpg
END:VEVENT
BEGIN:VEVENT
DTSTART;TZID=America/New_York:20251107T080000
DTEND;TZID=America/New_York:20251107T100000
DTSTAMP:20260419T131026
CREATED:20251103T124634Z
LAST-MODIFIED:20251103T124634Z
UID:2038-1762502400-1762509600@516ads.com
SUMMARY:EAA: Business Development Breakfast @ Dix Hills Diner
DESCRIPTION:EAA: Business Development Breakfast\nFriday\, November 7\, 2025 8AM – 10AM\n\n@ Dix Hills Diner ~ 1800 E Jericho Turnpike\, Huntington\, NY \n516Ads/ 631Ads & Entrepreneurs Across America are proud to team up with PURE Mammography\,  Portman Law Group\, our friends @ Island Better Hearing\, and event sponsors Michelle Castelerio – On My Way Concierge\, James Donnelly – Safe Haven Insurance\, Sheryl Hecht – Douglas Ellimann & the team @ Oakwood Car & Tire Center  for our Business Development Breakfast @ Dix Hills Diner. Great people\, amazing energy\, excellent connections! $30 per person. Please RSVP. Hope to see you there! \nShare this:
URL:https://516ads.com/event/eaa-business-development-breakfast-dix-hills-diner/
LOCATION:Dix Hills Diner\, 1800 E. Jericho Turnpike\, Huntington\, NY
CATEGORIES:Networking Breakfast Events
ATTACH;FMTTYPE=image/png:https://516ads.com/wp-content/uploads/2025/11/EAA-November-Flyer.png
END:VEVENT
BEGIN:VEVENT
DTSTART;TZID=America/New_York:20251107T080000
DTEND;TZID=America/New_York:20251107T100000
DTSTAMP:20260419T131026
CREATED:20251022T170721Z
LAST-MODIFIED:20251101T164220Z
UID:1816-1762502400-1762509600@516ads.com
SUMMARY:EAA Breakfast 11-07-25
DESCRIPTION:Share this:
URL:https://516ads.com/event/eaa-breakfast-11-07-25/
LOCATION:Dix Hills Diner\, 1800 E. Jericho Turnpike\, Huntington\, NY
CATEGORIES:Networking Breakfast Events
ATTACH;FMTTYPE=image/png:https://516ads.com/wp-content/uploads/2025/10/EAA-November-Flyer.png
END:VEVENT
BEGIN:VEVENT
DTSTART;TZID=America/New_York:20251031T080000
DTEND;TZID=America/New_York:20251031T100000
DTSTAMP:20260419T131026
CREATED:20251016T175101Z
LAST-MODIFIED:20251016T175101Z
UID:1698-1761897600-1761904800@516ads.com
SUMMARY:American Waffle House 10-31-25
DESCRIPTION:Share this:
URL:https://516ads.com/event/american-waffle-house-10-31-25/
LOCATION:American Waffle House\, 3927 Merrick Rd.\, Seaford\, NY\, NY
CATEGORIES:Networking Breakfast Events
END:VEVENT
BEGIN:VEVENT
DTSTART;TZID=America/New_York:20251030T080000
DTEND;TZID=America/New_York:20251030T170000
DTSTAMP:20260419T131026
CREATED:20251030T104142Z
LAST-MODIFIED:20251030T104142Z
UID:1953-1761811200-1761843600@516ads.com
SUMMARY:EAA: Business Development Breakfast - Friday\, November 7\, 2025
DESCRIPTION:EAA: Business Development Breakfast\nFriday\, November 7\, 2025 8AM – 10AM\n\n@ Dix Hills Diner ~ 1800 E Jericho Turnpike\, Huntington\, NY \n516Ads/ 631Ads & Entrepreneurs Across America are proud to team up with PURE Mammography\,  Portman Law Group\, our friends @ Island Better Hearing\, and event sponsors Michelle Castelerio – On My Way Concierge\, James Donnelly – Safe Haven Insurance\, Sheryl Hecht – Douglas Ellimann & the team @ Oakwood Car & Tire Center  for our Business Development Breakfast @ Dix Hills Diner. Great people\, amazing energy\, excellent connections! $30 per person. Please RSVP. Hope to see you there! \nShare this:
URL:https://516ads.com/event/eaa-business-development-breakfast-friday-november-7-2025/
LOCATION:NY
CATEGORIES:Networking Breakfast Events,Networking Evening Events
ATTACH;FMTTYPE=image/png:https://516ads.com/wp-content/uploads/2025/10/EAA-November-Flyer.png
END:VEVENT
BEGIN:VEVENT
DTSTART;TZID=America/New_York:20251029T120000
DTEND;TZID=America/New_York:20251029T140000
DTSTAMP:20260419T131026
CREATED:20251016T174129Z
LAST-MODIFIED:20251016T174950Z
UID:1687-1761739200-1761746400@516ads.com
SUMMARY:Sushi Vogue 10-29-25
DESCRIPTION:Share this:
URL:https://516ads.com/event/sushi-vogue-10-29-25/
LOCATION:Sushi Vogue\, 8063 Jericho Tpke. City\, Woodbury\, NY\, United States
CATEGORIES:Networking Lunch Events
END:VEVENT
BEGIN:VEVENT
DTSTART;TZID=America/New_York:20251027T180000
DTEND;TZID=America/New_York:20251027T200000
DTSTAMP:20260419T131026
CREATED:20251016T174024Z
LAST-MODIFIED:20251016T174925Z
UID:1685-1761588000-1761595200@516ads.com
SUMMARY:The Experience Teaming Up with BXB 10-27-25
DESCRIPTION:Share this:
URL:https://516ads.com/event/the-experience-teaming-up-with-bxb-10-27-25/
LOCATION:The Experience\, 180 Commerce Drive\,\, Hauppauge\, NY
CATEGORIES:Networking Evening Events
END:VEVENT
BEGIN:VEVENT
DTSTART;TZID=America/New_York:20251021T120000
DTEND;TZID=America/New_York:20251021T140000
DTSTAMP:20260419T131026
CREATED:20251016T173842Z
LAST-MODIFIED:20251016T174909Z
UID:1683-1761048000-1761055200@516ads.com
SUMMARY:Heritage Club/ Bethpage State Park 10-21-25
DESCRIPTION:Share this:
URL:https://516ads.com/event/heritage-club-bethpage-state-park-10-21-25/
LOCATION:The Heritage\, Bethpage State Park 99 Quaker Meeting House Rd\, Farmingdale\,\, NY
CATEGORIES:Networking Lunch Events
END:VEVENT
BEGIN:VEVENT
DTSTART;TZID=America/New_York:20251017T080000
DTEND;TZID=America/New_York:20251017T100000
DTSTAMP:20260419T131026
CREATED:20251016T173702Z
LAST-MODIFIED:20251016T174848Z
UID:1681-1760688000-1760695200@516ads.com
SUMMARY:HBC Business Breakfast 10-17-25
DESCRIPTION:Share this:
URL:https://516ads.com/event/hbc-business-breakfast-10-17-25/
LOCATION:Dix Hills Diner\, 1800 E. Jericho Turnpike\, Huntington\, NY
CATEGORIES:Networking Breakfast Events
END:VEVENT
BEGIN:VEVENT
DTSTART;TZID=America/New_York:20251013T180000
DTEND;TZID=America/New_York:20251013T200000
DTSTAMP:20260419T131026
CREATED:20251016T173511Z
LAST-MODIFIED:20251016T174827Z
UID:1679-1760378400-1760385600@516ads.com
SUMMARY:TAP ROOM/ Bayshore FREE Networking Night 10-13-25
DESCRIPTION:Share this:
URL:https://516ads.com/event/tap-room-bayshore-free-networking-night-10-13-25/
LOCATION:THE TAP ROOM / Bayshore\, 44 E. Main St.\, Bayshore\, NY\, NY
CATEGORIES:Networking Evening Events
END:VEVENT
BEGIN:VEVENT
DTSTART;TZID=America/New_York:20251010T083000
DTEND;TZID=America/New_York:20251010T220000
DTSTAMP:20260419T131026
CREATED:20251016T170901Z
LAST-MODIFIED:20251016T175200Z
UID:1675-1760085000-1760133600@516ads.com
SUMMARY:North Shore Towers Business Development Breakfast 10-10-25
DESCRIPTION:(Security Gate: Diner Area – Middle Building Lower Level) \nShare this:
URL:https://516ads.com/event/north-shore-towers-business-development-breakfast-10-10-25/
LOCATION:North Shore Towers\, 27240 Grand Central Pkwy\, Queens\, NY\, NY
CATEGORIES:Networking Breakfast Events
END:VEVENT
BEGIN:VEVENT
DTSTART;TZID=America/New_York:20251009T120000
DTEND;TZID=America/New_York:20251009T140000
DTSTAMP:20260419T131026
CREATED:20251016T170728Z
LAST-MODIFIED:20251016T175230Z
UID:1672-1760011200-1760018400@516ads.com
SUMMARY:Stonebridge Country Club 10-09-25
DESCRIPTION:Share this:
URL:https://516ads.com/event/stonebridge-country-club-10-09-25/
LOCATION:Stonebridge Country Club\, 2000 Raynors Way\, Smithtown\, NY
CATEGORIES:Networking Lunch Events
ATTACH;FMTTYPE=image/jpeg:https://516ads.com/wp-content/uploads/2025/10/Stonebridge-Country-Club-Logo.jpg
END:VEVENT
BEGIN:VEVENT
DTSTART;TZID=America/New_York:20251003T080000
DTEND;TZID=America/New_York:20251003T100000
DTSTAMP:20260419T131026
CREATED:20251016T170403Z
LAST-MODIFIED:20251016T174524Z
UID:1670-1759478400-1759485600@516ads.com
SUMMARY:EAA Breakfast 10-03-25
DESCRIPTION:Share this:
URL:https://516ads.com/event/eaa-breakfast-10-03-25/
LOCATION:Dix Hills Diner\, 1800 E. Jericho Turnpike\, Huntington\, NY
CATEGORIES:Networking Breakfast Events
END:VEVENT
BEGIN:VEVENT
DTSTART;TZID=America/New_York:20250926T080000
DTEND;TZID=America/New_York:20250926T100000
DTSTAMP:20260419T131026
CREATED:20250917T180536Z
LAST-MODIFIED:20251016T174535Z
UID:1228-1758873600-1758880800@516ads.com
SUMMARY:Waffle House Business Breakfast 09-26-25
DESCRIPTION:@ American Waffle House\n3927 Merrick Rd\, Seaford\, NY \n516Ads/ 631Ads are proud to team with the team @ Island Better Hearing\,  Travis Jackson – City Publications of Long Island\, Adam Zimmerman – Syl-Lee Antiques\, our friends @ Sir Speedy/ Plainview and Seafood Chamber President – Margaret Grub as we host our Business Networking Breakfast @ American Waffle House. $30 per person. Please RSVP. Connect. Promote. Better your business. Let’s make it a great one. Hope to see you there! \nShare this:
URL:https://516ads.com/event/waffle-house-business-breakfast-09-26-25/
LOCATION:American Waffle House\, 3927 Merrick Rd.\, Seaford\, NY\, NY
CATEGORIES:Networking Breakfast Events
ATTACH;FMTTYPE=image/jpeg:https://516ads.com/wp-content/uploads/2025/09/the-american-waffle-house-e1758132637782.jpg
END:VEVENT
BEGIN:VEVENT
DTSTART;TZID=America/New_York:20250924T120000
DTEND;TZID=America/New_York:20250924T140000
DTSTAMP:20260419T131026
CREATED:20250917T175336Z
LAST-MODIFIED:20251016T175249Z
UID:1220-1758715200-1758722400@516ads.com
SUMMARY:Sushi Vogue 09-24-25
DESCRIPTION:Sushi Networking | Wednesday\, September 24\, 12PM \n@ Sushi Vogue | 8063 Jericho Tpke\, Woodbury\, NY \n516Ads/ 631Ads are proud to team up with our friends @ PURE Mammography and event sponsors Safe Haven Insurance Agency\, Jo Haramis – Floorsdecors\, Tax Accountant – Gregg Jaffe & Todd November – Eat Well Sleep Well as we host our Sushi Networking Luncheon @ Sushi Vogue. Great people\, excellent connections\, delicious food! $35 per person. Please RSVP. Hope to see you there! \nhttps://516ads.com/profiles/blogs/sushi-networking-luncheon-sushi-vogue-september-24-2025-12pm \n#516Ads #631Ads #718Ads \nBusiness Development & Resources \nWhatever You Need\, We Can Help! \n516-547-4018 \nShare this:
URL:https://516ads.com/event/sushi-vogue-09-24-25/
LOCATION:Sushi Vogue\, 8063 Jericho Tpke. City\, Woodbury\, NY\, United States
CATEGORIES:Networking Lunch Events
ATTACH;FMTTYPE=image/jpeg:https://516ads.com/wp-content/uploads/2025/09/download.jpg
END:VEVENT
BEGIN:VEVENT
DTSTART;TZID=America/New_York:20250919T080000
DTEND;TZID=America/New_York:20250919T100000
DTSTAMP:20260419T131026
CREATED:20250917T181611Z
LAST-MODIFIED:20250917T182159Z
UID:1238-1758268800-1758276000@516ads.com
SUMMARY:HBC Business Breakfast (5) 09-19-25
DESCRIPTION:@ Dix Hills Diner – 1800 E. Jericho Turnpike\, Huntington\, NY \n516Ads/ 631Ads are proud to team up with the Hispanic Business Circle and event sponsors Safe Haven Insurance Agency\, Romano LoManto PLLC\,  LENDMATE CAPITAL and our friends @ TheBestPaintingPro for HBC Business Breakfast (5) @ The Dix Hills Diner. We’re honored to work with Jenny Flores\, Mabel Barzaga – Century 21\, Iris Rivera – Rivera Resources and Frank Sánchez – Sir Speedy/ Plainview on this program/ initiative. $30 pp. Please RSVP. Hope to see you there! \nShare this:
URL:https://516ads.com/event/hbc-business-breakfast-5-09-19-25/
LOCATION:Dix Hills Diner\, 1800 E. Jericho Turnpike\, Huntington\, NY
CATEGORIES:Networking Breakfast Events
ATTACH;FMTTYPE=image/jpeg:https://516ads.com/wp-content/uploads/2025/09/hbc-breakfast-5-09-19-25.jpg
END:VEVENT
END:VCALENDAR