BEGIN:VCALENDAR
VERSION:2.0
PRODID:-//516Ads | 631Ads - ECPv6.15.20//NONSGML v1.0//EN
CALSCALE:GREGORIAN
METHOD:PUBLISH
X-ORIGINAL-URL:https://516ads.com
X-WR-CALDESC:Events for 516Ads | 631Ads
REFRESH-INTERVAL;VALUE=DURATION:PT1H
X-Robots-Tag:noindex
X-PUBLISHED-TTL:PT1H
BEGIN:VTIMEZONE
TZID:America/New_York
BEGIN:DAYLIGHT
TZOFFSETFROM:-0500
TZOFFSETTO:-0400
TZNAME:EDT
DTSTART:20250309T070000
END:DAYLIGHT
BEGIN:STANDARD
TZOFFSETFROM:-0400
TZOFFSETTO:-0500
TZNAME:EST
DTSTART:20251102T060000
END:STANDARD
BEGIN:DAYLIGHT
TZOFFSETFROM:-0500
TZOFFSETTO:-0400
TZNAME:EDT
DTSTART:20260308T070000
END:DAYLIGHT
BEGIN:STANDARD
TZOFFSETFROM:-0400
TZOFFSETTO:-0500
TZNAME:EST
DTSTART:20261101T060000
END:STANDARD
BEGIN:DAYLIGHT
TZOFFSETFROM:-0500
TZOFFSETTO:-0400
TZNAME:EDT
DTSTART:20270314T070000
END:DAYLIGHT
BEGIN:STANDARD
TZOFFSETFROM:-0400
TZOFFSETTO:-0500
TZNAME:EST
DTSTART:20271107T060000
END:STANDARD
END:VTIMEZONE
BEGIN:VEVENT
DTSTART;TZID=America/New_York:20260409T120000
DTEND;TZID=America/New_York:20260409T140000
DTSTAMP:20260419T182541
CREATED:20260331T131502Z
LAST-MODIFIED:20260331T131502Z
UID:5751-1775736000-1775743200@516ads.com
SUMMARY:Business Networking Luncheon @ Stonebridge Country Club
DESCRIPTION:Business Networking Luncheon\nThursday\, April 9th\, 2026 12PM – 2PM\n\n@ Stonebridge Country Club ~  Smithtown\, NY\n\n\n\n\n\n\n\n\n\n\n\n\n\n\n\n\n\n516Ads/ 631Ads are proud to team up with The Law Offices of Sandra Radna\, the team @ PURE Mammography / Lenox Hill Radiology\, our friends @ Safe Haven Insurance\, Eagle Group Planning\, On My Way Concierge & Gift Baskets\, Sheryl Hecht – Douglas Elliman & Michael Strahl – UStaff360 and as we host our Business Networking Luncheon @ The Stonebridge Country Club. Great people. Excellent connections. $35 pp. Please RSVP. Hope to see you there! \nShare this:
URL:https://516ads.com/event/business-networking-luncheon-stonebridge-country-club-6/
LOCATION:Stonebridge Country Club\, 2000 Raynors Way\, Smithtown\, NY
CATEGORIES:Networking Lunch Events
ATTACH;FMTTYPE=image/png:https://516ads.com/wp-content/uploads/2026/03/stonebridge-april-26-flyer.png
END:VEVENT
BEGIN:VEVENT
DTSTART;TZID=America/New_York:20260410T083000
DTEND;TZID=America/New_York:20260410T100000
DTSTAMP:20260419T182541
CREATED:20260331T133141Z
LAST-MODIFIED:20260331T133141Z
UID:5756-1775809800-1775815200@516ads.com
SUMMARY:Think Tank Networking @ NST
DESCRIPTION:Think Tank Networking\nBusiness Breakfast \nFriday\, April 10th\, 2026 8:30AM – 10AM\n\n@ North Shore Towers \n(Security Gate: Diner Area – Middle Building Lower Level)\n27240 Grand Central Pkwy\, Queens\, NY \n516Ads/ 718Ads are proud to  team up with Giuseppe Di Bartolo – Keller Williams Legendary\, Gerry Dolan’s –  Helping Hands Risk Solutions\, our friends @  CDML (Computers Dominate My Life)\, Jim Nichols – Minuteman Press & Vesretta Homecare LLC for our Business Development Breakfast @ North Shore Towers. Connect. Promote. Get Ideas. Close deals.  $30 pp. Please RSVP. Hope to see you there! \nShare this:
URL:https://516ads.com/event/think-tank-networking-nst/
LOCATION:North Shore Towers\, 27240 Grand Central Pkwy\, Queens\, NY\, NY
CATEGORIES:Networking Breakfast Events
ATTACH;FMTTYPE=image/png:https://516ads.com/wp-content/uploads/2026/03/ttn-april.png
END:VEVENT
BEGIN:VEVENT
DTSTART;TZID=America/New_York:20260413T180000
DTEND;TZID=America/New_York:20260413T200000
DTSTAMP:20260419T182541
CREATED:20260406T103206Z
LAST-MODIFIED:20260406T103206Z
UID:5816-1776103200-1776110400@516ads.com
SUMMARY:Monday Night Networking: FREE Networking Night @ TAP ROOM / Huntington - April 13th\, 6PM
DESCRIPTION:Monday Night Networking\nFREE Networking Night \nMonday\, April 13th\, 2026 6PM – 8PM\n\n@ THE TAP ROOM / Huntington\n363 New York Avenue\, Huntington\, NY  (2nd Floor) \n\n\n\n\n\n\n\n\n\n\n\n\n\n\n\n\n\n\n516Ads/ 631Ads are proud to team up with Betty Anne Smith of Howard Hanna | Coach Realtors\, Michael Hirson – Legacy Advisors\, our friends @ Safe Haven Insurance Agency\, Herd Law Office\, LLC.\, Sir Speedy / Plainview & Telecom / Text Message Marketing pros VoIPX as we host Monday Night Networking: FREE Networking Night @ THE TAP ROOM / Huntington. Lite Apps. Cash Bar. Great people. Excellent connections. Get your week off to a great start! Hope to see you there! \nShare this:
URL:https://516ads.com/event/monday-night-networking-free-networking-night-tap-room-huntington-april-13th-6pm/
LOCATION:TAP ROOM / Hunting\, 363 New York Avenue\, Huntington\, United States
CATEGORIES:Networking Evening Events
ATTACH;FMTTYPE=image/jpeg:https://516ads.com/wp-content/uploads/2026/04/tap-room-huntington.jpg
END:VEVENT
BEGIN:VEVENT
DTSTART;TZID=America/New_York:20260417T080000
DTEND;TZID=America/New_York:20260417T100000
DTSTAMP:20260419T182541
CREATED:20260407T163231Z
LAST-MODIFIED:20260407T163231Z
UID:5838-1776412800-1776420000@516ads.com
SUMMARY:Everybody's Welcome! HBC Business Breakfast
DESCRIPTION:Everybody’s Welcome … \nHBC Business Breakfast \nFriday\, April 17th\, 2026 8AM – 10AM \n \n@ Dix Hills Diner – 1800 E. Jericho Turnpike\, Huntington\, NY \n516Ads/ 631Ads are proud to team up with the Hispanic Business Circle and event sponsors Safe Haven Insurance\, Romano LoManto PLLC\, TMF Law Offices\,  Tri Build Construction\, TheBestPaintingPro / Handyman Services\, Jared Berrios | Sunrun  & our friends @  1-800-Raccoon Pest & Wildlife Control for  our  HBC Business Breakfast @ The Dix Hills Diner. We’re honored to work with Jenny Flores\, Mabel Barzaga – Century 21\, Iris Rivera – Rivera Resources and Frank Sánchez – Sir Speedy/ Plainview on this program/ initiative. $30 pp. Please RSVP. Hope to see you there! \nShare this:
URL:https://516ads.com/event/everybodys-welcome-hbc-business-breakfast-2/
LOCATION:Dix Hills Diner\, 1800 E. Jericho Turnpike\, Huntington\, NY
CATEGORIES:Networking Breakfast Events
ATTACH;FMTTYPE=image/jpeg:https://516ads.com/wp-content/uploads/2026/04/hbc-april-event.jpg
ORGANIZER;CN="Hisoanic Business Circle":MAILTO:david@516ads.com
END:VEVENT
BEGIN:VEVENT
DTSTART;TZID=America/New_York:20260421T120000
DTEND;TZID=America/New_York:20260421T140000
DTSTAMP:20260419T182541
CREATED:20260415T104122Z
LAST-MODIFIED:20260415T104122Z
UID:5879-1776772800-1776780000@516ads.com
SUMMARY:Business Development Luncheon @ The Heritage Club
DESCRIPTION:Business Development Luncheon\nTuesday\, April 21st\, 12PM – 2PM\n\n@ The Heritage Club / Bethpage State Park \n516Ads/ 631Ads are proud to team up with our friends @ Safe Haven Insurance\,  Mike Aharoni – Coldwell Banker American Homes\,  Tax Accountant Gregg Jaffe\, Jo Haramis – Floorsdecors+more & Frank Sanchez – Sir Speedy as we host our Business Development Luncheon @ The Heritage/ Bethpage State Park. $35 per person. Please RSVP. Great people. Excellent connections.  Hope you can join us!  \nShare this:
URL:https://516ads.com/event/business-development-luncheon-the-heritage-club-2/
LOCATION:The Heritage\, Bethpage State Park 99 Quaker Meeting House Rd\, Farmingdale\,\, NY
CATEGORIES:Networking Lunch Events
ATTACH;FMTTYPE=image/jpeg:https://516ads.com/wp-content/uploads/2026/04/heritage-club.jpg
END:VEVENT
BEGIN:VEVENT
DTSTART;TZID=America/New_York:20260424T080000
DTEND;TZID=America/New_York:20260424T100000
DTSTAMP:20260419T182541
CREATED:20260416T105448Z
LAST-MODIFIED:20260416T105448Z
UID:5900-1777017600-1777024800@516ads.com
SUMMARY:Waffle House Biz Breakfast 
DESCRIPTION:Waffle House Biz Breakfast \nFriday\, April 24th\,  8AM – 10 AM \n\n@ American Waffle House \n3927 Merrick Road\, Seaford NY \n516Ads/ 631Ads are proud to team up with event sponsors Giuseppe Di Bartolo w/ Keller Williams Legendary\, The Towles Group\, Boris Mikhail\, Financial Advisor at Edward Jones & Frank Sanchez – Sir Speedy as we host our Biz Networking Breakfast @ American Waffle House. $30 per person. Please RSVP. Connect. Promote. Learn. Grow. Better your business. Hope to see you there! \nShare this:
URL:https://516ads.com/event/waffle-house-biz-breakfast-3/
LOCATION:American Waffle House\, 3927 Merrick Rd.\, Seaford\, NY\, NY
CATEGORIES:Networking Breakfast Events
ATTACH;FMTTYPE=image/png:https://516ads.com/wp-content/uploads/2026/04/waffle-house-breakfast-april-2026-updated.png
END:VEVENT
BEGIN:VEVENT
DTSTART;TZID=America/New_York:20260427T180000
DTEND;TZID=America/New_York:20260427T200000
DTSTAMP:20260419T182541
CREATED:20260418T125845Z
LAST-MODIFIED:20260418T125845Z
UID:5916-1777312800-1777320000@516ads.com
SUMMARY:Teaming w/ BxB Pros @ The Experience
DESCRIPTION:Teaming Up w/ BxB Pros\nMonday\, April 27th\, 6PM – 8PM\n\n@ The Experience\n180 Commerce Drive\, Hauppauge\, NY  \n516Ads/ 631Ads + BxB\n= Excellent Networking!  \n516Ads/ 631Ads are proud to team up with BxB Pros\, our friends @ The Experience and event sponsors Safe Haven Insurance\, Business Attorney: Alex Herd\, Esq.\, Divorce Attorney: Port and Sava\, Attorneys At Law\, Gary Port\, Esq.\, Tara  Brown – I.M.P.A.C.T.S\,  Optimize Your Business\, MKNY Business Solutions\, the  Telecom pros @ VoIPX and Secure Operations Security Services for a FREE Networking Night @ The Experience / Hauppauge. Let’s make it a great one!  Connect. Promote. Learn. Grow. Hope to see you there!!! \nShare this:
URL:https://516ads.com/event/teaming-w-bxb-pros-the-experience/
LOCATION:The Experience\, 180 Commerce Drive\,\, Hauppauge\, NY
CATEGORIES:Community Happenings,Networking Evening Events
ATTACH;FMTTYPE=image/jpeg:https://516ads.com/wp-content/uploads/2026/04/bxb-april-ad.jpg
END:VEVENT
BEGIN:VEVENT
DTSTART;TZID=America/New_York:20260429T120000
DTEND;TZID=America/New_York:20260429T140000
DTSTAMP:20260419T182541
CREATED:20260418T141809Z
LAST-MODIFIED:20260418T141809Z
UID:5921-1777464000-1777471200@516ads.com
SUMMARY:Delicious Networking @ Sushi Vogue
DESCRIPTION:Delicious Networking\nWednesday\, April 29th\, 12PM – 2PM\n\n@ Sushi Vogue\n8063 Jericho Tpke\, Woodbury\, NY \n516Ads/ 631Ads are proud to team up with Safe Haven Insurance\, our friends @ PURE Mammography and event sponsors Jo Haramis – Floorsdecors+more\, Mike Hirson – Legacy Advisors\, Mike Walsh – Realty Connect USA & Tax Accountant – Gregg Jaffe for a Delicious Networking Luncheon @ Sushi Vogue. Great people\, excellent connections!  $35 per person. Please RSVP. Hope to see you there! \nShare this:
URL:https://516ads.com/event/delicious-networking-sushi-vogue-3/
LOCATION:Sushi Vogue\, 8063 Jericho Tpke. City\, Woodbury\, NY\, United States
CATEGORIES:Networking Lunch Events
ATTACH;FMTTYPE=image/png:https://516ads.com/wp-content/uploads/2026/04/sushi-april-ad.png
END:VEVENT
END:VCALENDAR