BEGIN:VCALENDAR
VERSION:2.0
PRODID:-//516Ads | 631Ads - ECPv6.15.20//NONSGML v1.0//EN
CALSCALE:GREGORIAN
METHOD:PUBLISH
X-ORIGINAL-URL:https://516ads.com
X-WR-CALDESC:Events for 516Ads | 631Ads
REFRESH-INTERVAL;VALUE=DURATION:PT1H
X-Robots-Tag:noindex
X-PUBLISHED-TTL:PT1H
BEGIN:VTIMEZONE
TZID:America/New_York
BEGIN:DAYLIGHT
TZOFFSETFROM:-0500
TZOFFSETTO:-0400
TZNAME:EDT
DTSTART:20250309T070000
END:DAYLIGHT
BEGIN:STANDARD
TZOFFSETFROM:-0400
TZOFFSETTO:-0500
TZNAME:EST
DTSTART:20251102T060000
END:STANDARD
BEGIN:DAYLIGHT
TZOFFSETFROM:-0500
TZOFFSETTO:-0400
TZNAME:EDT
DTSTART:20260308T070000
END:DAYLIGHT
BEGIN:STANDARD
TZOFFSETFROM:-0400
TZOFFSETTO:-0500
TZNAME:EST
DTSTART:20261101T060000
END:STANDARD
BEGIN:DAYLIGHT
TZOFFSETFROM:-0500
TZOFFSETTO:-0400
TZNAME:EDT
DTSTART:20270314T070000
END:DAYLIGHT
BEGIN:STANDARD
TZOFFSETFROM:-0400
TZOFFSETTO:-0500
TZNAME:EST
DTSTART:20271107T060000
END:STANDARD
END:VTIMEZONE
BEGIN:VEVENT
DTSTART;TZID=America/New_York:20260123T080000
DTEND;TZID=America/New_York:20260123T170000
DTSTAMP:20260419T125943
CREATED:20260116T211819Z
LAST-MODIFIED:20260116T211819Z
UID:5162-1769155200-1769187600@516ads.com
SUMMARY:Live2Lead Long Island 2026
DESCRIPTION:Get ready for another unforgettable day of leadership\, growth\, and connection. \nLive2Lead Long Island returns on Friday\, January 23\, 2026\, bringing together top-tier speakers\, real-world insights\, and a room full of driven professionals who are ready to lead with purpose. \nInspire Your Team. Elevate Your Vision. Expand Your Impact. \nMark your calendar now. \n\n\nLive2Lead is more than an event. It’s a catalyst for transformation.\n\nRegister Now!\n\n\n\nShare this:
URL:https://516ads.com/event/live2lead-long-island-2026/
LOCATION:Hyatt Regency Long Island\, 1717 Motor Parkway\, Hauppauge\, NY\, 11788\, United States
CATEGORIES:Networking Evening Events
ATTACH;FMTTYPE=image/jpeg:https://516ads.com/wp-content/uploads/2026/01/589443139_1437008635101141_5000318310860287195_n.jpg
END:VEVENT
END:VCALENDAR