BEGIN:VCALENDAR
VERSION:2.0
PRODID:-//516Ads | 631Ads - ECPv6.15.20//NONSGML v1.0//EN
CALSCALE:GREGORIAN
METHOD:PUBLISH
X-ORIGINAL-URL:https://516ads.com
X-WR-CALDESC:Events for 516Ads | 631Ads
REFRESH-INTERVAL;VALUE=DURATION:PT1H
X-Robots-Tag:noindex
X-PUBLISHED-TTL:PT1H
BEGIN:VTIMEZONE
TZID:America/New_York
BEGIN:DAYLIGHT
TZOFFSETFROM:-0500
TZOFFSETTO:-0400
TZNAME:EDT
DTSTART:20240310T070000
END:DAYLIGHT
BEGIN:STANDARD
TZOFFSETFROM:-0400
TZOFFSETTO:-0500
TZNAME:EST
DTSTART:20241103T060000
END:STANDARD
BEGIN:DAYLIGHT
TZOFFSETFROM:-0500
TZOFFSETTO:-0400
TZNAME:EDT
DTSTART:20250309T070000
END:DAYLIGHT
BEGIN:STANDARD
TZOFFSETFROM:-0400
TZOFFSETTO:-0500
TZNAME:EST
DTSTART:20251102T060000
END:STANDARD
BEGIN:DAYLIGHT
TZOFFSETFROM:-0500
TZOFFSETTO:-0400
TZNAME:EDT
DTSTART:20260308T070000
END:DAYLIGHT
BEGIN:STANDARD
TZOFFSETFROM:-0400
TZOFFSETTO:-0500
TZNAME:EST
DTSTART:20261101T060000
END:STANDARD
END:VTIMEZONE
BEGIN:VEVENT
DTSTART;TZID=America/New_York:20251218T180000
DTEND;TZID=America/New_York:20251218T200000
DTSTAMP:20260419T143336
CREATED:20251210T111636Z
LAST-MODIFIED:20251210T111636Z
UID:4187-1766080800-1766088000@516ads.com
SUMMARY:Holiday Karaoke Networking @ Eleanor's Lounge
DESCRIPTION:Holiday Karaoke Networking\n\n\n\n\n\n\n\n\n\n\n\n\n\n\n\nThursday\, December 18th\, 2025 \n\n\nFREE Networking Night: 6PM-8PM\nNetworking Karaoke: 7:30PM – 10PM\n@ Eleanor’s Lounge  ($150 First Prize)\n\nMusic\, Drinks\, Prizes\, Networking & Fun! \n516Ads/ 631Ads are proud to team up with Pete Ciccone and friends @ Entrepreneurs Across America\, AppSoluteSuccess\, Eagle Group Planning\, Safe Haven Insurance Agency\, CustomerXR\, Kitchens & More by Doug & City Publications of Long Island as we host Holiday Karaoke Networking ($150 First Prize) @ Eleanor’s Lounge. Great people\, great energy\, FREE Food\, Cash Bar\, excellent voices and LOTS of fun!! Hope to see you there!  \n\n\nShare this:
URL:https://516ads.com/event/holiday-karaoke-networking-eleanors-lounge/
LOCATION:Eleanor’s Lounge\, 4103 Sunrise Highway\, Bohemia\, New York\, United States Minor Outlying Islands
CATEGORIES:Community Happenings,Networking Evening Events
ATTACH;FMTTYPE=image/jpeg:https://516ads.com/wp-content/uploads/2025/12/karaoke-networking-dec-flyer.jpg
END:VEVENT
END:VCALENDAR