BEGIN:VCALENDAR
VERSION:2.0
PRODID:-//516Ads | 631Ads - ECPv6.15.20//NONSGML v1.0//EN
CALSCALE:GREGORIAN
METHOD:PUBLISH
X-ORIGINAL-URL:https://516ads.com
X-WR-CALDESC:Events for 516Ads | 631Ads
REFRESH-INTERVAL;VALUE=DURATION:PT1H
X-Robots-Tag:noindex
X-PUBLISHED-TTL:PT1H
BEGIN:VTIMEZONE
TZID:America/New_York
BEGIN:DAYLIGHT
TZOFFSETFROM:-0500
TZOFFSETTO:-0400
TZNAME:EDT
DTSTART:20240310T070000
END:DAYLIGHT
BEGIN:STANDARD
TZOFFSETFROM:-0400
TZOFFSETTO:-0500
TZNAME:EST
DTSTART:20241103T060000
END:STANDARD
BEGIN:DAYLIGHT
TZOFFSETFROM:-0500
TZOFFSETTO:-0400
TZNAME:EDT
DTSTART:20250309T070000
END:DAYLIGHT
BEGIN:STANDARD
TZOFFSETFROM:-0400
TZOFFSETTO:-0500
TZNAME:EST
DTSTART:20251102T060000
END:STANDARD
BEGIN:DAYLIGHT
TZOFFSETFROM:-0500
TZOFFSETTO:-0400
TZNAME:EDT
DTSTART:20260308T070000
END:DAYLIGHT
BEGIN:STANDARD
TZOFFSETFROM:-0400
TZOFFSETTO:-0500
TZNAME:EST
DTSTART:20261101T060000
END:STANDARD
END:VTIMEZONE
BEGIN:VEVENT
DTSTART;TZID=America/New_York:20251208T180000
DTEND;TZID=America/New_York:20251208T200000
DTSTAMP:20260419T144050
CREATED:20251129T133134Z
LAST-MODIFIED:20251129T133134Z
UID:4112-1765216800-1765224000@516ads.com
SUMMARY:Monday Night Networking: FREE Networking Night (Toy Drive II) 
DESCRIPTION:Monday Night Networking\nFREE Networking Night (Toy Drive II) \nMonday\, December 8\, 2025 6PM – 8PM \n\n@ THE TAP ROOM / Massapequa Park\n1010 Park Blvd.\, Massapequa Park\, NY  \n516Ads/ 631Ads are proud to team up our friends @ The Seaford Chamber of Commerce and event sponsors Herd Law Office\, LLC.\, Mike Aharoni – Coldwell Banker American Homes\, Safe Haven Insurance Agency\, Sir Speedy / Plainview and Telecom pros VoIPX as we host Monday Night Networking @ THE TAP ROOM / Massapequa. In addition to a top notch night of networking\, we’ll collecting toys and gift cards for  Jacie’s Kids: an LI based non profit who work to smiles to children at local hospitals. Great people. Great cause. Connect. Promote. Learn. Grow. Help. Hope to see you there! \nShare this:
URL:https://516ads.com/event/monday-night-networking-free-networking-night-toy-drive-ii/
LOCATION:THE TAP ROOM / Massapequa\, 1010 Park Blvd.\, Massapequa Park\, NY\, NY
CATEGORIES:Networking Evening Events
ATTACH;FMTTYPE=image/jpeg:https://516ads.com/wp-content/uploads/2025/11/tap-room-mass-1.jpg
END:VEVENT
END:VCALENDAR