BEGIN:VCALENDAR
VERSION:2.0
PRODID:-//516Ads | 631Ads - ECPv6.15.20//NONSGML v1.0//EN
CALSCALE:GREGORIAN
METHOD:PUBLISH
X-WR-CALNAME:516Ads | 631Ads
X-ORIGINAL-URL:https://516ads.com
X-WR-CALDESC:Events for 516Ads | 631Ads
REFRESH-INTERVAL;VALUE=DURATION:PT1H
X-Robots-Tag:noindex
X-PUBLISHED-TTL:PT1H
BEGIN:VTIMEZONE
TZID:America/New_York
BEGIN:DAYLIGHT
TZOFFSETFROM:-0500
TZOFFSETTO:-0400
TZNAME:EDT
DTSTART:20240310T070000
END:DAYLIGHT
BEGIN:STANDARD
TZOFFSETFROM:-0400
TZOFFSETTO:-0500
TZNAME:EST
DTSTART:20241103T060000
END:STANDARD
BEGIN:DAYLIGHT
TZOFFSETFROM:-0500
TZOFFSETTO:-0400
TZNAME:EDT
DTSTART:20250309T070000
END:DAYLIGHT
BEGIN:STANDARD
TZOFFSETFROM:-0400
TZOFFSETTO:-0500
TZNAME:EST
DTSTART:20251102T060000
END:STANDARD
BEGIN:DAYLIGHT
TZOFFSETFROM:-0500
TZOFFSETTO:-0400
TZNAME:EDT
DTSTART:20260308T070000
END:DAYLIGHT
BEGIN:STANDARD
TZOFFSETFROM:-0400
TZOFFSETTO:-0500
TZNAME:EST
DTSTART:20261101T060000
END:STANDARD
END:VTIMEZONE
BEGIN:VEVENT
DTSTART;TZID=America/New_York:20251117T180000
DTEND;TZID=America/New_York:20251117T200000
DTSTAMP:20260419T160932
CREATED:20251022T171336Z
LAST-MODIFIED:20251101T163819Z
UID:1825-1763402400-1763409600@516ads.com
SUMMARY:The Experience Teaming Up with BXB 11-17-25
DESCRIPTION:Share this:
URL:https://516ads.com/event/the-experience-teaming-up-with-bxb-11-17-25/
LOCATION:The Experience\, 180 Commerce Drive\,\, Hauppauge\, NY
CATEGORIES:Networking Evening Events
ATTACH;FMTTYPE=image/png:https://516ads.com/wp-content/uploads/2025/10/The-Experience-in-Hauppauge.png
END:VEVENT
BEGIN:VEVENT
DTSTART;TZID=America/New_York:20251117T180000
DTEND;TZID=America/New_York:20251117T200000
DTSTAMP:20260419T160932
CREATED:20251110T123400Z
LAST-MODIFIED:20251110T123708Z
UID:2195-1763402400-1763409600@516ads.com
SUMMARY:Teaming Up w/ BxB (Food Drive) - Monday\, November 17th\, 6PM @ The Experience
DESCRIPTION:Teaming Up w/ BxB (Food Drive)\nMonday\, November 17th\, 6PM\n \n@ The Experience\n180 Commerce Drive\, Hauppauge\, NY  \nKicking Off Thanksgiving Season.\nIgniting Business. Collecting Food.\nDing! Ding! Ding! Let’s Get To It!!!  \n516Ads/ 631Ads are proud to team up with BxB Pros\, our friends @ The Experience / Hauppauge and event sponsors Roodmy Cesar – Edward Jones\, Curcio Law\, PLLC.\, Safe Haven Insurance\, Secure Operations Security Services\, MKNY Business Solutions\,  Optimize Your Business   and the team @ TheBestPaintingPro for a FREE Networking Night (Food Drive) @ The Experience / Hauppauge.  In addition to an great night of networking\, we’ll be collecting food items for Long Islanders in need. Connect. Promote. Grow. Help!! Hope to see you there!!! \nShare this:
URL:https://516ads.com/event/teaming-up-w-bxb-food-drive-monday-november-17th-6pm-the-experience/
LOCATION:The Experience\, 180 Commerce Drive\,\, Hauppauge\, NY
CATEGORIES:Community Happenings,Networking Evening Events
ATTACH;FMTTYPE=image/jpeg:https://516ads.com/wp-content/uploads/2025/11/bxb-november-event.jpg
END:VEVENT
END:VCALENDAR