BEGIN:VCALENDAR
VERSION:2.0
PRODID:-//516Ads | 631Ads - ECPv6.15.20//NONSGML v1.0//EN
CALSCALE:GREGORIAN
METHOD:PUBLISH
X-ORIGINAL-URL:https://516ads.com
X-WR-CALDESC:Events for 516Ads | 631Ads
REFRESH-INTERVAL;VALUE=DURATION:PT1H
X-Robots-Tag:noindex
X-PUBLISHED-TTL:PT1H
BEGIN:VTIMEZONE
TZID:America/New_York
BEGIN:DAYLIGHT
TZOFFSETFROM:-0500
TZOFFSETTO:-0400
TZNAME:EDT
DTSTART:20250309T070000
END:DAYLIGHT
BEGIN:STANDARD
TZOFFSETFROM:-0400
TZOFFSETTO:-0500
TZNAME:EST
DTSTART:20251102T060000
END:STANDARD
BEGIN:DAYLIGHT
TZOFFSETFROM:-0500
TZOFFSETTO:-0400
TZNAME:EDT
DTSTART:20260308T070000
END:DAYLIGHT
BEGIN:STANDARD
TZOFFSETFROM:-0400
TZOFFSETTO:-0500
TZNAME:EST
DTSTART:20261101T060000
END:STANDARD
BEGIN:DAYLIGHT
TZOFFSETFROM:-0500
TZOFFSETTO:-0400
TZNAME:EDT
DTSTART:20270314T070000
END:DAYLIGHT
BEGIN:STANDARD
TZOFFSETFROM:-0400
TZOFFSETTO:-0500
TZNAME:EST
DTSTART:20271107T060000
END:STANDARD
END:VTIMEZONE
BEGIN:VEVENT
DTSTART;TZID=America/New_York:20260309T180000
DTEND;TZID=America/New_York:20260309T200000
DTSTAMP:20260419T082122
CREATED:20260226T103846Z
LAST-MODIFIED:20260226T103846Z
UID:5446-1773079200-1773086400@516ads.com
SUMMARY:Monday Night Networking! FREE Netwroking Night @ TAP ROOM / Bay Shore
DESCRIPTION:Monday Night Networking\nFREE Networking Night \nMonday\, March 9th\, 2026 6PM – 8PM\n\n@ THE TAP ROOM / Bay Shore\n44 E. Main Street Bay Shore\, NY (2nd Floor) \n\n\n\n\n\n\n\n\n\n\n\n\n\n\n\n\n\n\n516Ads/ 631Ads are proud to team up with event sponsors Safe Haven Insurance Agency\, Herd Law Office\, LLC.\, Sir Speedy / Plainview\, Telecom / Text Message Marketing pros VoIPX and The Best Painting Pro & Handyman Services as we host Monday Night Networking: FREE Networking Night  @ THE TAP ROOM / Bay Shore. Lite Apps. Cash Bar. Great people. Excellent connections. Get your week off to a great start! Hope to see you there! \nShare this:
URL:https://516ads.com/event/monday-night-networking-free-netwroking-night-tap-room-bay-shore/
LOCATION:TAP ROOM / Bay Shore\, 44 E. Main Street\, Bay Shore\, 11706\, United States
CATEGORIES:Networking Evening Events
ATTACH;FMTTYPE=image/jpeg:https://516ads.com/wp-content/uploads/2026/02/tap-room-march-bay-shore-perfected.jpg
END:VEVENT
BEGIN:VEVENT
DTSTART;TZID=America/New_York:20260319T180000
DTEND;TZID=America/New_York:20260319T220000
DTSTAMP:20260419T082122
CREATED:20260310T180039Z
LAST-MODIFIED:20260310T180039Z
UID:5578-1773943200-1773957600@516ads.com
SUMMARY:Karaoke Networking ($150 First Prize) FREE Networking Night @ Eleanor's Lounge
DESCRIPTION:Karaoke Networking\nThursday\, March 19th\, 2025 \n\n\nFREE Networking Night: 6PM-8PM\nNetworking Karaoke: 7:30PM – 10PM\n@ Eleanor’s Lounge  ($150 First Prize)\n\nMusic\, Drinks\, Prizes\, Networking & Fun! \n516Ads/ 631Ads are proud to team up with Entrepreneurs Across America\, CustomerXR\, Safe Haven Insurance\, Sara Miller Studios\, web design pros AppSoluteSuccess  & City Publications of Long Island as we host Karaoke Networking ($150 First Prize) @ Eleanor’s Lounge. FREE Food\, Cash Bar\, great people\, quality connections\, excellent voices and LOTS of fun!! Hope to see you there! \n\n\nShare this:
URL:https://516ads.com/event/karaoke-networking-150-first-prize-free-networking-night-eleanors-lounge/
LOCATION:Eleanor’s Lounge\, 4103 Sunrise Highway\, Bohemia\, New York\, United States Minor Outlying Islands
CATEGORIES:Networking Evening Events
ATTACH;FMTTYPE=image/png:https://516ads.com/wp-content/uploads/2026/03/karaoke-networking-march-2026.png
END:VEVENT
BEGIN:VEVENT
DTSTART;TZID=America/New_York:20260323T180000
DTEND;TZID=America/New_York:20260323T200000
DTSTAMP:20260419T082122
CREATED:20260316T113041Z
LAST-MODIFIED:20260316T113041Z
UID:5643-1774288800-1774296000@516ads.com
SUMMARY:Teaming Up w/ BxB @ The Experience
DESCRIPTION:Teaming Up w/ BxB Pros\nMonday\, March 23rd\, 6PM – 8PM\n \n@ The Experience\n180 Commerce Drive\, Hauppauge\, NY  \n516Ads/ 631Ads + BxB\n= Excellent Networking!  \n516Ads/ 631Ads are proud to team up with BxB Pros\, our friends @ The Experience and event sponsors Safe Haven Insurance\, Roodmy Cesar – Edward Jones\, Business Attorney: Alex Herd\, Esq.  Optimize Your Business\, MKNY Business Solutions\, the  Telecom pros @ VoIPX and Secure Operations Security Services for a FREE Networking Night @ The Experience / Hauppauge. Let’s make it a great one!  Connect. Promote. Learn. Grow. Hope to see you there!!! \nShare this:
URL:https://516ads.com/event/teaming-up-w-bxb-the-experience/
LOCATION:The Experience\, 180 Commerce Drive\,\, Hauppauge\, NY
CATEGORIES:Networking Evening Events
ATTACH;FMTTYPE=image/jpeg:https://516ads.com/wp-content/uploads/2026/03/bxb-march-2026-flyer.jpg
END:VEVENT
END:VCALENDAR