BEGIN:VCALENDAR
VERSION:2.0
PRODID:-//516Ads | 631Ads - ECPv6.15.20//NONSGML v1.0//EN
CALSCALE:GREGORIAN
METHOD:PUBLISH
X-WR-CALNAME:516Ads | 631Ads
X-ORIGINAL-URL:https://516ads.com
X-WR-CALDESC:Events for 516Ads | 631Ads
REFRESH-INTERVAL;VALUE=DURATION:PT1H
X-Robots-Tag:noindex
X-PUBLISHED-TTL:PT1H
BEGIN:VTIMEZONE
TZID:America/New_York
BEGIN:DAYLIGHT
TZOFFSETFROM:-0500
TZOFFSETTO:-0400
TZNAME:EDT
DTSTART:20250309T070000
END:DAYLIGHT
BEGIN:STANDARD
TZOFFSETFROM:-0400
TZOFFSETTO:-0500
TZNAME:EST
DTSTART:20251102T060000
END:STANDARD
BEGIN:DAYLIGHT
TZOFFSETFROM:-0500
TZOFFSETTO:-0400
TZNAME:EDT
DTSTART:20260308T070000
END:DAYLIGHT
BEGIN:STANDARD
TZOFFSETFROM:-0400
TZOFFSETTO:-0500
TZNAME:EST
DTSTART:20261101T060000
END:STANDARD
BEGIN:DAYLIGHT
TZOFFSETFROM:-0500
TZOFFSETTO:-0400
TZNAME:EDT
DTSTART:20270314T070000
END:DAYLIGHT
BEGIN:STANDARD
TZOFFSETFROM:-0400
TZOFFSETTO:-0500
TZNAME:EST
DTSTART:20271107T060000
END:STANDARD
END:VTIMEZONE
BEGIN:VEVENT
DTSTART;TZID=America/New_York:20260209T180000
DTEND;TZID=America/New_York:20260209T200000
DTSTAMP:20260419T094237
CREATED:20260126T160738Z
LAST-MODIFIED:20260126T160738Z
UID:5230-1770660000-1770667200@516ads.com
SUMMARY:Monday Night Networking: TAP ROOM / Garden City
DESCRIPTION:Monday Night Networking\nFREE Networking Night \nMonday\, February 9th\, 2026 6PM – 8PM\n\n\n\n\n\n\n\n\n\n\n\n\n\n\n\n\n\n\n@ THE TAP ROOM / Garden City\n919 Franklin Avenue\, Garden City\, NY (Private Room) \n516Ads/ 631Ads are proud to team up with event sponsors Herd Law Office\, LLC.\, Safe Haven Insurance Agency\, Carmela Cracchiolo – Meadowbrook Financial Mortgage Bankers Corp.\, Michael Hirson – Legacy Advisors\,  Sir Speedy / Plainview and Telecom / Text Message Marketing pros VoIPX as we host Monday Night Networking: FREE Networking Night  @ THE TAP ROOM / Garden City. Lite Apps. Cash Bar. Great people. Excellent connections. Get your business / networking week off to a great start! Hope to see you there! \nShare this:
URL:https://516ads.com/event/monday-night-networking-tap-room-garden-city/
LOCATION:TAP ROOM / Garden City\, 919 Franklin Avenue\, Garden City\, United States
CATEGORIES:Networking Evening Events
ATTACH;FMTTYPE=image/jpeg:https://516ads.com/wp-content/uploads/2026/01/tap-room-gc.jpg
END:VEVENT
BEGIN:VEVENT
DTSTART;TZID=America/New_York:20260223T180000
DTEND;TZID=America/New_York:20260223T200000
DTSTAMP:20260419T094237
CREATED:20260212T114010Z
LAST-MODIFIED:20260212T114010Z
UID:5337-1771869600-1771876800@516ads.com
SUMMARY:Teaming w/ BxB @ The Experience
DESCRIPTION:Teaming Up w/ BxB Pros\nMonday\, February 23rd\, 6PM\n \n@ The Experience\n180 Commerce Drive\, Hauppauge\, NY  \n516Ads/ 631Ads + BxB\n= Excellent Networking!  \n516Ads/ 631Ads are proud to team up with BxB Pros\, our friends @ The Experience and event sponsors Safe Haven Insurance\, Roodmy Cesar – Edward Jones\, Business Attorney: Alex Herd\, Esq.\, Divorce Attorney: Gary Port\, Esq.\,   Optimize Your Business\, MKNY Business Solutions\, the  Telecom pros @ VoIPX and Secure Operations Security Services for a FREE Networking Night @ The Experience / Hauppauge. Let’s make it a great one!  Connect. Promote. Learn. Grow. Hope to see you there!!! \nShare this:
URL:https://516ads.com/event/teaming-w-bxb-the-experience-2/
LOCATION:The Experience\, 180 Commerce Drive\,\, Hauppauge\, NY
CATEGORIES:Community Happenings,Networking Evening Events
ATTACH;FMTTYPE=image/jpeg:https://516ads.com/wp-content/uploads/2026/02/bxb-feb-2026-event-flyer.jpg
END:VEVENT
END:VCALENDAR