BEGIN:VCALENDAR
VERSION:2.0
PRODID:-//516Ads | 631Ads - ECPv6.15.20//NONSGML v1.0//EN
CALSCALE:GREGORIAN
METHOD:PUBLISH
X-WR-CALNAME:516Ads | 631Ads
X-ORIGINAL-URL:https://516ads.com
X-WR-CALDESC:Events for 516Ads | 631Ads
REFRESH-INTERVAL;VALUE=DURATION:PT1H
X-Robots-Tag:noindex
X-PUBLISHED-TTL:PT1H
BEGIN:VTIMEZONE
TZID:America/New_York
BEGIN:DAYLIGHT
TZOFFSETFROM:-0500
TZOFFSETTO:-0400
TZNAME:EDT
DTSTART:20250309T070000
END:DAYLIGHT
BEGIN:STANDARD
TZOFFSETFROM:-0400
TZOFFSETTO:-0500
TZNAME:EST
DTSTART:20251102T060000
END:STANDARD
BEGIN:DAYLIGHT
TZOFFSETFROM:-0500
TZOFFSETTO:-0400
TZNAME:EDT
DTSTART:20260308T070000
END:DAYLIGHT
BEGIN:STANDARD
TZOFFSETFROM:-0400
TZOFFSETTO:-0500
TZNAME:EST
DTSTART:20261101T060000
END:STANDARD
BEGIN:DAYLIGHT
TZOFFSETFROM:-0500
TZOFFSETTO:-0400
TZNAME:EDT
DTSTART:20270314T070000
END:DAYLIGHT
BEGIN:STANDARD
TZOFFSETFROM:-0400
TZOFFSETTO:-0500
TZNAME:EST
DTSTART:20271107T060000
END:STANDARD
END:VTIMEZONE
BEGIN:VEVENT
DTSTART;TZID=America/New_York:20260116T080000
DTEND;TZID=America/New_York:20260116T100000
DTSTAMP:20260419T082059
CREATED:20260107T125830Z
LAST-MODIFIED:20260107T125830Z
UID:4922-1768550400-1768557600@516ads.com
SUMMARY:Everybody's Welcome! HBC Business Breakfast
DESCRIPTION:Everybody’s Welcome … \nHBC Business Breakfast \nFriday\, January 16\, 2026 8AM – 10AM\n\n\n\n\n\n\n\n\n\n\n\n\n\n\n\n\n\n \n@ Dix Hills Diner – 1800 E. Jericho Turnpike\, Huntington\, NY \n516Ads/ 631Ads are proud to team up with the Hispanic Business Circle and event sponsors Safe Haven Insurance\, Romano LoManto PLLC\, Elisa Irvolino – Sazon y Corazon\,  TheBestPaintingPro / Handyman Services and our friends @ Destination Accessible for HBC Business Breakfast @ The Dix Hills Diner. We’re honored to work with Jenny Flores\, Mabel Barzaga – Century 21\, Iris Rivera – Rivera Resources and Frank Sánchez – Sir Speedy/ Plainview on this program/ initiative. $30 pp. Please RSVP. Hope to see you there! \nShare this:
URL:https://516ads.com/event/everybodys-welcome-hbc-business-breakfast/
LOCATION:Dix Hills Diner\, 1800 E. Jericho Turnpike\, Huntington\, NY
CATEGORIES:Community Happenings,Networking Breakfast Events
ATTACH;FMTTYPE=image/jpeg:https://516ads.com/wp-content/uploads/2026/01/hbc-january-2026-flyer.jpg
ORGANIZER;CN="Hisoanic Business Circle":MAILTO:david@516ads.com
END:VEVENT
END:VCALENDAR