BEGIN:VCALENDAR
VERSION:2.0
PRODID:-//516Ads | 631Ads - ECPv6.15.20//NONSGML v1.0//EN
CALSCALE:GREGORIAN
METHOD:PUBLISH
X-WR-CALNAME:516Ads | 631Ads
X-ORIGINAL-URL:https://516ads.com
X-WR-CALDESC:Events for 516Ads | 631Ads
REFRESH-INTERVAL;VALUE=DURATION:PT1H
X-Robots-Tag:noindex
X-PUBLISHED-TTL:PT1H
BEGIN:VTIMEZONE
TZID:America/New_York
BEGIN:DAYLIGHT
TZOFFSETFROM:-0500
TZOFFSETTO:-0400
TZNAME:EDT
DTSTART:20250309T070000
END:DAYLIGHT
BEGIN:STANDARD
TZOFFSETFROM:-0400
TZOFFSETTO:-0500
TZNAME:EST
DTSTART:20251102T060000
END:STANDARD
BEGIN:DAYLIGHT
TZOFFSETFROM:-0500
TZOFFSETTO:-0400
TZNAME:EDT
DTSTART:20260308T070000
END:DAYLIGHT
BEGIN:STANDARD
TZOFFSETFROM:-0400
TZOFFSETTO:-0500
TZNAME:EST
DTSTART:20261101T060000
END:STANDARD
BEGIN:DAYLIGHT
TZOFFSETFROM:-0500
TZOFFSETTO:-0400
TZNAME:EDT
DTSTART:20270314T070000
END:DAYLIGHT
BEGIN:STANDARD
TZOFFSETFROM:-0400
TZOFFSETTO:-0500
TZNAME:EST
DTSTART:20271107T060000
END:STANDARD
END:VTIMEZONE
BEGIN:VEVENT
DTSTART;TZID=America/New_York:20260421T120000
DTEND;TZID=America/New_York:20260421T140000
DTSTAMP:20260419T114152
CREATED:20260415T104122Z
LAST-MODIFIED:20260415T104122Z
UID:5879-1776772800-1776780000@516ads.com
SUMMARY:Business Development Luncheon @ The Heritage Club
DESCRIPTION:Business Development Luncheon\nTuesday\, April 21st\, 12PM – 2PM\n\n@ The Heritage Club / Bethpage State Park \n516Ads/ 631Ads are proud to team up with our friends @ Safe Haven Insurance\,  Mike Aharoni – Coldwell Banker American Homes\,  Tax Accountant Gregg Jaffe\, Jo Haramis – Floorsdecors+more & Frank Sanchez – Sir Speedy as we host our Business Development Luncheon @ The Heritage/ Bethpage State Park. $35 per person. Please RSVP. Great people. Excellent connections.  Hope you can join us!  \nShare this:
URL:https://516ads.com/event/business-development-luncheon-the-heritage-club-2/
LOCATION:The Heritage\, Bethpage State Park 99 Quaker Meeting House Rd\, Farmingdale\,\, NY
CATEGORIES:Networking Lunch Events
ATTACH;FMTTYPE=image/jpeg:https://516ads.com/wp-content/uploads/2026/04/heritage-club.jpg
END:VEVENT
END:VCALENDAR