BEGIN:VCALENDAR
VERSION:2.0
PRODID:-//516Ads | 631Ads - ECPv6.15.20//NONSGML v1.0//EN
CALSCALE:GREGORIAN
METHOD:PUBLISH
X-WR-CALNAME:516Ads | 631Ads
X-ORIGINAL-URL:https://516ads.com
X-WR-CALDESC:Events for 516Ads | 631Ads
REFRESH-INTERVAL;VALUE=DURATION:PT1H
X-Robots-Tag:noindex
X-PUBLISHED-TTL:PT1H
BEGIN:VTIMEZONE
TZID:America/New_York
BEGIN:DAYLIGHT
TZOFFSETFROM:-0500
TZOFFSETTO:-0400
TZNAME:EDT
DTSTART:20250309T070000
END:DAYLIGHT
BEGIN:STANDARD
TZOFFSETFROM:-0400
TZOFFSETTO:-0500
TZNAME:EST
DTSTART:20251102T060000
END:STANDARD
BEGIN:DAYLIGHT
TZOFFSETFROM:-0500
TZOFFSETTO:-0400
TZNAME:EDT
DTSTART:20260308T070000
END:DAYLIGHT
BEGIN:STANDARD
TZOFFSETFROM:-0400
TZOFFSETTO:-0500
TZNAME:EST
DTSTART:20261101T060000
END:STANDARD
BEGIN:DAYLIGHT
TZOFFSETFROM:-0500
TZOFFSETTO:-0400
TZNAME:EDT
DTSTART:20270314T070000
END:DAYLIGHT
BEGIN:STANDARD
TZOFFSETFROM:-0400
TZOFFSETTO:-0500
TZNAME:EST
DTSTART:20271107T060000
END:STANDARD
END:VTIMEZONE
BEGIN:VEVENT
DTSTART;TZID=America/New_York:20260406T180000
DTEND;TZID=America/New_York:20260406T193000
DTSTAMP:20260419T114250
CREATED:20260325T141559Z
LAST-MODIFIED:20260325T141559Z
UID:5711-1775498400-1775503800@516ads.com
SUMMARY:KOTM (Kicking Off The Month) via Zoom
DESCRIPTION:KOTM via Zoom!\nMonday\, April 6\, 6PM – 7:15PM\n\nLooking to grow your business?  \nPlease join us on the 1st Monday of the Month 6PM.\nKOTM (Kicking Off the Month) — meeting conveniently on Zoom! \nThanks to Tom Paccione – TPAC Consulting & Ben Indiviglia – Douglas Elliman – Commercial for teaming up with us. Thanks to sponsors Helping Hands Risk Solutions\, Joseph Fusaro – Oppenheimer & Company\, Inc.\, and Web Design Pro – Lisa Cappiello for their support! Thanks to Ilene Corina – PULSE for her help in coordinating this event. KOTM via Zoom! Hope to see you on the call. Please click here to register! \nShare this:
URL:https://516ads.com/event/kotm-kicking-off-the-month-via-zoom/
LOCATION:ZOOM
CATEGORIES:Community Happenings,Networking Evening Events
ATTACH;FMTTYPE=image/png:https://516ads.com/wp-content/uploads/2026/03/kotm-april-2026.png
END:VEVENT
END:VCALENDAR