BEGIN:VCALENDAR
VERSION:2.0
PRODID:-//516Ads | 631Ads - ECPv6.15.20//NONSGML v1.0//EN
CALSCALE:GREGORIAN
METHOD:PUBLISH
X-ORIGINAL-URL:https://516ads.com
X-WR-CALDESC:Events for 516Ads | 631Ads
REFRESH-INTERVAL;VALUE=DURATION:PT1H
X-Robots-Tag:noindex
X-PUBLISHED-TTL:PT1H
BEGIN:VTIMEZONE
TZID:America/New_York
BEGIN:DAYLIGHT
TZOFFSETFROM:-0500
TZOFFSETTO:-0400
TZNAME:EDT
DTSTART:20250309T070000
END:DAYLIGHT
BEGIN:STANDARD
TZOFFSETFROM:-0400
TZOFFSETTO:-0500
TZNAME:EST
DTSTART:20251102T060000
END:STANDARD
BEGIN:DAYLIGHT
TZOFFSETFROM:-0500
TZOFFSETTO:-0400
TZNAME:EDT
DTSTART:20260308T070000
END:DAYLIGHT
BEGIN:STANDARD
TZOFFSETFROM:-0400
TZOFFSETTO:-0500
TZNAME:EST
DTSTART:20261101T060000
END:STANDARD
BEGIN:DAYLIGHT
TZOFFSETFROM:-0500
TZOFFSETTO:-0400
TZNAME:EDT
DTSTART:20270314T070000
END:DAYLIGHT
BEGIN:STANDARD
TZOFFSETFROM:-0400
TZOFFSETTO:-0500
TZNAME:EST
DTSTART:20271107T060000
END:STANDARD
END:VTIMEZONE
BEGIN:VEVENT
DTSTART;TZID=America/New_York:20260403T080000
DTEND;TZID=America/New_York:20260403T100000
DTSTAMP:20260419T114434
CREATED:20260325T131951Z
LAST-MODIFIED:20260325T131951Z
UID:5706-1775203200-1775210400@516ads.com
SUMMARY:EAA: Spring Into Action - Holiday Breakfast
DESCRIPTION:EAA: Spring Into Action\nHoliday Breakfast\nFriday\, April 3rd\, 2026 8AM – 10AM\n\n@  Dix Hills Diner\n1800 E Jericho Turnpike\, Huntington\, NY \n516Ads/ 631Ads & Entrepreneurs Across America are proud to be teaming up with Safe Haven Insurance\, our friends @ PURE Mammography\, Island Better Hearing\, Michelle Castelerio – On My Way Concierge\, Sheryl Hecht – Douglas Elliman\,  Pam Landman –  PMI Lighthouse / Squatter Watch & Oakwood Car & Tire Center for our EAA: Spring Into Action Holiday Breakfast @ Dix Hills Diner. Great people\, amazing energy\, excellent connections! $30 per person. Please RSVP. Hope to see you there! \nShare this:
URL:https://516ads.com/event/eaa-spring-into-action-holiday-breakfast/
LOCATION:Dix Hills Diner\, 1800 E. Jericho Turnpike\, Huntington\, NY
CATEGORIES:Networking Breakfast Events
ATTACH;FMTTYPE=image/png:https://516ads.com/wp-content/uploads/2026/03/eaa-holiday-breakfast.png
END:VEVENT
END:VCALENDAR