BEGIN:VCALENDAR
VERSION:2.0
PRODID:-//516Ads | 631Ads - ECPv6.15.20//NONSGML v1.0//EN
CALSCALE:GREGORIAN
METHOD:PUBLISH
X-WR-CALNAME:516Ads | 631Ads
X-ORIGINAL-URL:https://516ads.com
X-WR-CALDESC:Events for 516Ads | 631Ads
REFRESH-INTERVAL;VALUE=DURATION:PT1H
X-Robots-Tag:noindex
X-PUBLISHED-TTL:PT1H
BEGIN:VTIMEZONE
TZID:America/New_York
BEGIN:DAYLIGHT
TZOFFSETFROM:-0500
TZOFFSETTO:-0400
TZNAME:EDT
DTSTART:20250309T070000
END:DAYLIGHT
BEGIN:STANDARD
TZOFFSETFROM:-0400
TZOFFSETTO:-0500
TZNAME:EST
DTSTART:20251102T060000
END:STANDARD
BEGIN:DAYLIGHT
TZOFFSETFROM:-0500
TZOFFSETTO:-0400
TZNAME:EDT
DTSTART:20260308T070000
END:DAYLIGHT
BEGIN:STANDARD
TZOFFSETFROM:-0400
TZOFFSETTO:-0500
TZNAME:EST
DTSTART:20261101T060000
END:STANDARD
BEGIN:DAYLIGHT
TZOFFSETFROM:-0500
TZOFFSETTO:-0400
TZNAME:EDT
DTSTART:20270314T070000
END:DAYLIGHT
BEGIN:STANDARD
TZOFFSETFROM:-0400
TZOFFSETTO:-0500
TZNAME:EST
DTSTART:20271107T060000
END:STANDARD
END:VTIMEZONE
BEGIN:VEVENT
DTSTART;TZID=America/New_York:20260312T120000
DTEND;TZID=America/New_York:20260312T140000
DTSTAMP:20260419T131626
CREATED:20260226T103214Z
LAST-MODIFIED:20260310T203253Z
UID:5444-1773316800-1773324000@516ads.com
SUMMARY:Business Networking Luncheon @ Stonebridge Country Club
DESCRIPTION:Business Networking Luncheon\nThursday\, March 12th\, 2026 12PM – 2PM\n\n@ Stonebridge Country Club ~  Smithtown\, NY\n\n\n\n\n\n\n\n\n\n\n\n\n\n\n\n\n\n516Ads/ 631Ads are proud to team up with our friends @ Pure Mammography\, The Law Offices of Sandra Radna\, Safe Haven Insurance\, Eagle Group Planning\, On My Way Concierge & Gift Baskets\, Sheryl Hecht – Douglas Elliman & Michael Strahl – UStaff360 as we host our Business Networking Luncheon @ The Stonebridge Country Club. Great people. Excellent connections. $35 pp. Please RSVP. Hope to see you there! \nShare this:
URL:https://516ads.com/event/business-networking-luncheon-stonebridge-country-club-5/
LOCATION:Stonebridge Country Club\, 2000 Raynors Way\, Smithtown\, NY
CATEGORIES:Networking Lunch Events
ATTACH;FMTTYPE=image/png:https://516ads.com/wp-content/uploads/2026/02/stonebridge-feb-flyer.png
END:VEVENT
END:VCALENDAR