BEGIN:VCALENDAR
VERSION:2.0
PRODID:-//516Ads | 631Ads - ECPv6.15.20//NONSGML v1.0//EN
CALSCALE:GREGORIAN
METHOD:PUBLISH
X-ORIGINAL-URL:https://516ads.com
X-WR-CALDESC:Events for 516Ads | 631Ads
REFRESH-INTERVAL;VALUE=DURATION:PT1H
X-Robots-Tag:noindex
X-PUBLISHED-TTL:PT1H
BEGIN:VTIMEZONE
TZID:America/New_York
BEGIN:DAYLIGHT
TZOFFSETFROM:-0500
TZOFFSETTO:-0400
TZNAME:EDT
DTSTART:20250309T070000
END:DAYLIGHT
BEGIN:STANDARD
TZOFFSETFROM:-0400
TZOFFSETTO:-0500
TZNAME:EST
DTSTART:20251102T060000
END:STANDARD
BEGIN:DAYLIGHT
TZOFFSETFROM:-0500
TZOFFSETTO:-0400
TZNAME:EDT
DTSTART:20260308T070000
END:DAYLIGHT
BEGIN:STANDARD
TZOFFSETFROM:-0400
TZOFFSETTO:-0500
TZNAME:EST
DTSTART:20261101T060000
END:STANDARD
BEGIN:DAYLIGHT
TZOFFSETFROM:-0500
TZOFFSETTO:-0400
TZNAME:EDT
DTSTART:20270314T070000
END:DAYLIGHT
BEGIN:STANDARD
TZOFFSETFROM:-0400
TZOFFSETTO:-0500
TZNAME:EST
DTSTART:20271107T060000
END:STANDARD
END:VTIMEZONE
BEGIN:VEVENT
DTSTART;TZID=America/New_York:20260306T080000
DTEND;TZID=America/New_York:20260306T100000
DTSTAMP:20260419T131824
CREATED:20260224T131838Z
LAST-MODIFIED:20260224T131838Z
UID:5424-1772784000-1772791200@516ads.com
SUMMARY:EAA Business Development Luncheon @ Dix Hills Diner
DESCRIPTION:EAA: Business\nDevelopment Breakfast\nFriday\, March 6th\, 2026 8AM – 10AM\n\n@ Dix Hills Diner\n1800 E Jericho Turnpike\, Huntington\, NY \n516Ads/ 631Ads & Entrepreneurs Across America are proud to team up with Safe Haven Insurance\, our friends @ PURE Mammography\, Island Better Hearing\, Michelle Castelerio – On My Way Concierge\, Sheryl Hecht – Douglas Elliman & Oakwood Car & Tire Center for our EAA Business Development Breakfast @ Dix Hills Diner. Great people\, amazing energy\, excellent connections! $30 per person. Please RSVP. Hope to see you there! \nShare this:
URL:https://516ads.com/event/eaa-business-development-luncheon-dix-hills-diner/
LOCATION:Dix Hills Diner\, 1800 E. Jericho Turnpike\, Huntington\, NY
CATEGORIES:Networking Breakfast Events
ATTACH;FMTTYPE=image/png:https://516ads.com/wp-content/uploads/2026/02/eaa-mar-26-flyer.png
END:VEVENT
END:VCALENDAR